BEGIN:VCALENDAR
VERSION:2.0
CALSCALE:GREGORIAN
PRODID:-//MyApp//Calendar 1.0//EN
BEGIN:VEVENT
METHOD:PUBLISH
UID:33370@regionalniportaly.cz
DTSTAMP:20260421T203121Z
DTSTART;VALUE=DATE:20230723
DTEND;VALUE=DATE:20230724
SUMMARY:MOZART GALA
DESCRIPTION:Koncert složený z nejkrásnějších operních a písňových melodií W. A. Mozarta.V atmosféře barokního divadla bude tento program nezapomenutelný. Koncert je kostýmovaný a moderovaný. Divák zjistí mnoho zajímavostí o životě a tvorbě W. A. Mozarta. V průběhu večera bude připravené malé občerstvení pro všechny diváky.&nbsp\;
LOCATION:Valtice
END:VEVENT
END:VCALENDAR