BEGIN:VCALENDAR
VERSION:2.0
CALSCALE:GREGORIAN
PRODID:-//MyApp//Calendar 1.0//EN
BEGIN:VEVENT
METHOD:PUBLISH
UID:46484@regionalniportaly.cz
DTSTAMP:20260422T071904Z
DTSTART;VALUE=DATE:20241207
DTEND;VALUE=DATE:20241208
SUMMARY:Holki
DESCRIPTION:Legendární skupina HOLKI míří do Retro Music Clubu v Zaječí\, pojďte si užít jejich hity naživo a zatrsat\, tak jako tenkrát!..&nbsp\;
LOCATION:Zaječí
END:VEVENT
END:VCALENDAR