BEGIN:VCALENDAR
VERSION:2.0
CALSCALE:GREGORIAN
PRODID:-//MyApp//Calendar 1.0//EN
BEGIN:VEVENT
METHOD:PUBLISH
UID:46485@regionalniportaly.cz
DTSTAMP:20260422T071912Z
DTSTART;VALUE=DATE:20241102
DTEND;VALUE=DATE:20241103
SUMMARY:Alan Murin
DESCRIPTION:Obrovský talent\, skvělý zpěvák a hudebník ALAN MURIN vystoupí v Retro Music Clubu v Zaječí!.. Pojďte si užít jedinečnou show plnou krásných hitů tohoto slovenského umělce.Za mixem DJ LEEMAC.
LOCATION:Zaječí
END:VEVENT
END:VCALENDAR