BEGIN:VCALENDAR
VERSION:2.0
CALSCALE:GREGORIAN
PRODID:-//MyApp//Calendar 1.0//EN
BEGIN:VEVENT
METHOD:PUBLISH
UID:46928@regionalniportaly.cz
DTSTAMP:20260422T073844Z
DTSTART;VALUE=DATE:20241109
DTEND;VALUE=DATE:20241110
SUMMARY:Fakt božská komedie - moravská derniéra
DESCRIPTION:⚡ Divadlo Petra Cendelína vás zve na divadelní představení FAKT BOŽSKÁ KOMEDIE!⚡ „Olymp zase žije!“⚡ Nacházíme se na počátku křesťanských dob\, kdy sláva antického Řecka a jeho bohů uvadá. Přesto jsou právě staří řečtí bohové hlavními hrdiny. Zeus\, hlavní bůh\, má spousty milenek\, což vytáčí jeho manželku Héru. Jednou pohár trpělivosti přeteče a Héra se rozhodne rozvést. Zeus se snaží rozvodu zabránit – co by tomu řekli lidi! Také má strach\, že rozpad vztahu hlavních bohů bude znamenat posílení křesťanského Boha. Zeus se tak rozhodne přesvědčit boha lásky Eróta\, aby Héru trefil svým šípem\, opatřeným tak\, že zasažený se do Dia zamiluje. Erós však nezasáhne správný cíl a Olymp se ocitá v ohrožení... Zvládnou situaci napravit rivalové Áres (bůh války) a Athéna (bohyně moudrosti)\, neblahou shodou okolností přinucení spolupracovat?
LOCATION:Podivín
END:VEVENT
END:VCALENDAR