BEGIN:VCALENDAR
VERSION:2.0
CALSCALE:GREGORIAN
PRODID:-//MyApp//Calendar 1.0//EN
BEGIN:VEVENT
METHOD:PUBLISH
UID:52353@regionalniportaly.cz
DTSTAMP:20260422T052839Z
DTSTART;VALUE=DATE:20250705
DTEND;VALUE=DATE:20250706
SUMMARY:Bulharská Jízda
DESCRIPTION:Bulharská Jízda a co Vás čeká ?Začínáme 15:00!!&nbsp\;Nejenom skvělá hudba ale také spousta specialit na ochutnání&nbsp\;jak jídlu&nbsp\;tak k pití.Vinařství Hubis&amp\;Valigura nabídnou to nejlepší za své Vinařské existence.Dále pro Vás nachystá kuchař Radomír Peprna skvělá drobná jídla prezentace domácích výrobků.Budete si moci&nbsp\;zakoupit promo věci&nbsp\;od kapel\, které zde budou mít stánek.
LOCATION:Bulhary
END:VEVENT
END:VCALENDAR