BEGIN:VCALENDAR
VERSION:2.0
CALSCALE:GREGORIAN
PRODID:-//MyApp//Calendar 1.0//EN
BEGIN:VEVENT
METHOD:PUBLISH
UID:53749@regionalniportaly.cz
DTSTAMP:20260422T162723Z
DTSTART;VALUE=DATE:20250503
DTEND;VALUE=DATE:20250504
SUMMARY:Lednické vinné trhy
DESCRIPTION:Už posedmé se Lednické vinné trhy stanou vinařskou událostí jara! V sobotu 3. května od 10 do 20 hodin se ve vinařství Hraniční zámeček uskuteční celodenní degustace 390 exkluzivních vín. A letošní ročník opravdu stojí za to!\nNovinkou letošního ročníku jsou vstupenky v online předprodeji za 390 Kč.\nRezervujte si svůj pohárek včas – kdo dřív koupí\, ten dřív pije! Za 390 korun ochutnáte 390 vín – tedy symbolicky víno za korunu. V ceně vstupného je neomezená konzumace všech vín\, památeční degustační sklenička\, katalog vín\, hudební doprovod cimbálky\, soutěže a zábavné kvízy. Dále bude možnost si zakoupit oblíbená vína a výborné občerstvení.\nOnline předprodej vstupenek naleznete v síti smsticket. Pro více informací sledujte stránky akce\, anebo Facebook. 
LOCATION:Lednice
END:VEVENT
END:VCALENDAR