BEGIN:VCALENDAR
VERSION:2.0
CALSCALE:GREGORIAN
PRODID:-//MyApp//Calendar 1.0//EN
BEGIN:VEVENT
METHOD:PUBLISH
UID:54104@regionalniportaly.cz
DTSTAMP:20260423T012654Z
DTSTART;VALUE=DATE:20250802
DTEND;VALUE=DATE:20250803
SUMMARY:AutentikFest Moravia 2025
DESCRIPTION:11. ročník mezinárodního vinařského festivalu naturálních a autentických pod širým nebem\, tentokráte v areálu vinných sklepů Podluží a Výmol v Moravské Nové Vsi.Vinařský spolek Autentista Moravia Magna představí autentická vína svých členů\, ale také podobně smýšlejících a&nbsp\;hospodařících vinařů z&nbsp\;tuzemska i&nbsp\;ze zahraničí - Maďarska\, Slovenska a Rakouska.Bezedná sklenka vám bude k dispozici od 10:00 do 22:00.&nbsp\;
LOCATION:Moravská Nová Ves
END:VEVENT
END:VCALENDAR