BEGIN:VCALENDAR
VERSION:2.0
CALSCALE:GREGORIAN
PRODID:-//MyApp//Calendar 1.0//EN
BEGIN:VEVENT
METHOD:PUBLISH
UID:54991@regionalniportaly.cz
DTSTAMP:20260422T052541Z
DTSTART;VALUE=DATE:20250624
DTEND;VALUE=DATE:20250625
SUMMARY:Modré úterý - Alena Antalová & Alex Anders
DESCRIPTION:Velký návrat šansonu! Herečka a zpěvačka Alena Antalová a skladatel\, textař\, zpěvák a pianista Alex Anders vytvořili novou hudební dvojici.Dovolujeme si Vás pozavat na koncertní vystoupení v úterý 24. června 2025 těchto dvou úžasných osobností. Koncert proběhne pod širým nebem v Amfiteátru Spolkového Domu v Podivíně. Začínáme v 19:30 hodin.&nbsp\;Alena Antalová\, herečka a muzikálová zpěvačka\, jejíž domovskou scénou je Městské divadlo v Brně\, je známá i z televize a z filmů. Kdo by neznal její roli Ludmily v Četnických humoreskách či Aničky v Pojišťovně štěstí.Alex Anders (vl. jménem Alexandr Špunda)\, skladatel\, textař a interpret v jedné osobě pokračuje v tradici českého šansonu a navazuje na odkaz paní Hany Hegerové\, Petra Hapky či Michala Horáčka. Alex je ostravský rodák a absolvent ostravské konzervatoře.Místo konání:&nbsp\;Palackého 390/28\, 69145 Podivín\, Česko
LOCATION:Podivín
END:VEVENT
END:VCALENDAR