BEGIN:VCALENDAR
VERSION:2.0
CALSCALE:GREGORIAN
PRODID:-//MyApp//Calendar 1.0//EN
BEGIN:VEVENT
METHOD:PUBLISH
UID:55944@regionalniportaly.cz
DTSTAMP:20260422T225750Z
DTSTART;VALUE=DATE:20250816
DTEND;VALUE=DATE:20250817
SUMMARY:Viennese Tuning Times a Giordano Farina v Lednici
DESCRIPTION:Viennese Tuning Times: V Lednici&nbsp\;&nbsp\;na křídlech baroka a klasicismu s italským charismatemV&nbsp\;sobotu&nbsp\;&nbsp\;16 srpna 2025 od 14 hodin zazní kostele sv. Jakuba Staršího v Lednici koncert komorního souboru&nbsp\;Viennese Tuning Times\, který nabídne odpoledne&nbsp\;&nbsp\;plné okouzlujících árií a virtuózních skladeb z pokladnic barokních a klasicistních mistrů – Vivaldiho\, Händela\, Bacha\, Mozarta\, Dittersdorfa\, Spergera a dalších.Koncert bude mít hned několik vrcholů.Prvním bude setkání dvou výrazných pěveckých osobností – mezzosopranistky&nbsp\;Ivy Táborské\, stálé členky souboru\, a speciálního hosta\, italského basisty&nbsp\;Giordana Fariny.Iva Táborská\, výrazná pěvkyně české barokní scény si získává srdce posluchačů svým uhrančivým\, temně zbarveným hlasem\, výrazovou citlivostí a hlubokým prožitkem.&nbsp\;Giordano Farina\, sólista renomovaných scén jako Teatro San Carlo di Napoli&nbsp\;či Teatro Verdi di Pisa a držitel ocenění z prestižních mezinárodních soutěží (například Spoleto\, Musica Sacra\, Let’s Sing)\, je vyhledávaným interpretem nejen operních rolí\,&nbsp\;ale i barokního a duchovního repertoáru. Jeho hluboký hudební výraz\, kultivovaný projev&nbsp\;a umělecká přesvědčivost se přidají k pěveckým vrcholům koncertu.&nbsp\;Dalším z&nbsp\;vrcholů&nbsp\;&nbsp\;bude&nbsp\;Koncert č. 1 pro violon&nbsp\;Karla Ditterse von Dittersdorf\, dílo plné šarmu\, brilance a klasicistní elegance. Na dnes již téměř zapomenutý&nbsp\;historický violon&nbsp\;jej provede&nbsp\;specialista na tento nástroj&nbsp\;Sebastian Bretfeld. „Vídeňské“ ladění violonu navrací hudbě 17. a 18. století její původní barvu a zvukovou krásu.Neméně poutavým momentem bude virtuózní&nbsp\;duet pro violon a violu Johannese Matthiase Spergera&nbsp\;– dílo\, které v podání&nbsp\;&nbsp\;Ariany Suleiman Shakh&nbsp\;na violu&nbsp\;a&nbsp\;Sebastiana Bretfelda&nbsp\;na historický violon nabídne posluchačům dialog plný emocí\,&nbsp\;&nbsp\;hravosti a melodické krásy.&nbsp\;Koncert nabídne výjimečný hudební zážitek s výpravou do světa 17. a 18. století\, kdy se hudba rodila v těsném kontaktu s&nbsp\;přírodou\, poezií\, a lidskou duší.Srdečně Vás zveme!
LOCATION:Lednice
END:VEVENT
END:VCALENDAR