BEGIN:VCALENDAR
VERSION:2.0
CALSCALE:GREGORIAN
PRODID:-//MyApp//Calendar 1.0//EN
BEGIN:VEVENT
METHOD:PUBLISH
UID:56211@regionalniportaly.cz
DTSTAMP:20260422T184835Z
DTSTART;VALUE=DATE:20250802
DTEND;VALUE=DATE:20250803
SUMMARY:Family Food Festival CZ ve Valticích
DESCRIPTION:Family Food Festival CZ ve Valticích je zpět! Už v sobotu 2. srpna 2025 se promění náměstí Svobody ve Valticích ve svět plný chutí\, vůní a nezapomenutelných zážitků!\nSledujte akci na Facebooku.
LOCATION:Valtice
END:VEVENT
END:VCALENDAR