BEGIN:VCALENDAR
VERSION:2.0
CALSCALE:GREGORIAN
PRODID:-//MyApp//Calendar 1.0//EN
BEGIN:VEVENT
METHOD:PUBLISH
UID:57827@regionalniportaly.cz
DTSTAMP:20260422T015520Z
DTSTART;VALUE=DATE:20251108
DTEND;VALUE=DATE:20251109
SUMMARY:Kali & Peter Pann
DESCRIPTION:Jedna z největších rapových jmen CZ/SK scény KALI &amp\; PETER PANN míří 8.11.2025 do Zaječí!Těš se na večer plný hitů\, které znáš nazpaměť\, a show\, která rozhýbe celý klub.&nbsp\;&nbsp\;Za mixem DJ LeemacČtyři baryKoktejlyStylová Glo loungeProfesionální party fotograf
LOCATION:Zaječí
END:VEVENT
END:VCALENDAR