BEGIN:VCALENDAR
VERSION:2.0
CALSCALE:GREGORIAN
PRODID:-//MyApp//Calendar 1.0//EN
BEGIN:VEVENT
METHOD:PUBLISH
UID:59423@regionalniportaly.cz
DTSTAMP:20260421T114852Z
DTSTART;VALUE=DATE:20260726
DTEND;VALUE=DATE:20260727
SUMMARY:Mozart milující...
DESCRIPTION:MOZART MILUJÍCÍ...Dopisy milované ženě a hudba nejněžnějšíačkoli byla Mozartova osobnost komplikovaná\, z dochovaných dopisů vyplývá\, že velmi miloval svou ženu Konstanc. Koncert plný milostných melodií představí intimní život Mozarta a jeho ženy. Recitací dochovaných textů se ujme skvělá herečka Monika Timková a zpěvem naplní večer talentovaná pěvkyně Michaela Katráková. Večer je zvlášť vhodný pro zamilované dvojice. V prostorách překrásného barokního divadla si plně užijete autentičnost 18. století
LOCATION:Valtice
END:VEVENT
END:VCALENDAR