BEGIN:VCALENDAR
VERSION:2.0
CALSCALE:GREGORIAN
PRODID:-//MyApp//Calendar 1.0//EN
BEGIN:VEVENT
METHOD:PUBLISH
UID:59972@regionalniportaly.cz
DTSTAMP:20260422T112651Z
DTSTART;VALUE=DATE:20251212
DTEND;VALUE=DATE:20251213
SUMMARY:Adventní galakoncert
DESCRIPTION:Tradiční adventní galakoncert pěveckého sboru Polyfonia z břeclavského gymnázia ve valtické jízdárně. Po dvou letech se vrací do Valtic sbor a jazzband z partnerského gymnázia Corvinianum v Northeimu. Společně zazpívají část Mírové mše Karla Jenkinse a jazzové vánoční písně.&nbsp\;
LOCATION:Valtice
END:VEVENT
END:VCALENDAR