BEGIN:VCALENDAR
VERSION:2.0
CALSCALE:GREGORIAN
PRODID:-//MyApp//Calendar 1.0//EN
BEGIN:VEVENT
METHOD:PUBLISH
UID:60931@regionalniportaly.cz
DTSTAMP:20260421T183808Z
DTSTART;VALUE=DATE:20260422
DTEND;VALUE=DATE:20260423
SUMMARY:Talkshow Haliny Pawlowské
DESCRIPTION:Talkshow Haliny Pawlowské
LOCATION:Mutěnice
END:VEVENT
END:VCALENDAR