BEGIN:VCALENDAR
VERSION:2.0
CALSCALE:GREGORIAN
PRODID:-//MyApp//Calendar 1.0//EN
BEGIN:VEVENT
METHOD:PUBLISH
UID:61087@regionalniportaly.cz
DTSTAMP:20260421T171557Z
DTSTART;VALUE=DATE:20260627
DTEND;VALUE=DATE:20260628
SUMMARY:FERBY FEST 2026
DESCRIPTION:Řekneme vám to na rovinu... Mysleli jsme si\, že další FERBY FEST se už neuskuteční\, nebo možná jeden\, rozlučkový...Od posledního FERBY FESTU uplynuly celé dva roky\, během kterých jsme ale čelili častým dotazům a přáním\, jestli a ať se festival vrátí. Nedalo nám to a řekli jsme si\, že v roce 2026 se do toho zase opřeme!A opřeli jsme se vskutku pořádně\, no posuďte dle line-upu sami! A vracíme se do úžasného areálu\, kde náš festival historicky začal!Milý přátelé kvalitního rocku\, výborného vína a ducha našeho festivalu... těšíme se na vás!
LOCATION:Velké Bílovice
END:VEVENT
END:VCALENDAR