BEGIN:VCALENDAR
VERSION:2.0
CALSCALE:GREGORIAN
PRODID:-//MyApp//Calendar 1.0//EN
BEGIN:VEVENT
METHOD:PUBLISH
UID:62058@regionalniportaly.cz
DTSTAMP:20260421T150601Z
DTSTART;VALUE=DATE:20261010
DTEND;VALUE=DATE:20261011
SUMMARY:Běhej lesy Lednice
DESCRIPTION:Čeká tě trailové půlmaratonské i maratonské dobrodružství v barvách podzimu a po rovinkách Lednicko - valtického areálu. Na trasách potkáš několik památek místa zapsaného v UNESCO. Trasy 7\, 14\, 21\, 42 kilometrů a k tomu dětské závody je den jako stvořený pro celou rodinu a všechny generace.
LOCATION:Lednice
END:VEVENT
END:VCALENDAR