BEGIN:VCALENDAR
VERSION:2.0
CALSCALE:GREGORIAN
PRODID:-//MyApp//Calendar 1.0//EN
BEGIN:VEVENT
METHOD:PUBLISH
UID:62148@regionalniportaly.cz
DTSTAMP:20260421T124128Z
DTSTART;VALUE=DATE:20260815
DTEND;VALUE=DATE:20260816
SUMMARY:Valtický Prosecco Festival
DESCRIPTION:Na 15. srpna&nbsp\;vás zveme do nádherného venkovního prostředí zámku Valtice\, kde se uskuteční&nbsp\;nultý ročník Valtického Prosecco Festivalu!Čeká vás příjemné letní odpoledne plné bublinek a šumivých vín z oblasti Valdobbiadene\, skvělé gastronomické zážitky od místních podniků&nbsp\;a bohatý doprovodný program.Těšit se můžete na&nbsp\;školu sabrage\, moderovaný program i&nbsp\;hudební vystoupení muzikantů a DJs&nbsp\;Sledujte tuto událost – postupně budeme odhalovat další informace!Vstupenky zakoupíte exkluzivně v síti smsticket&nbsp\;- součástí vstupenky je degustační sklenice.▌Valtický Prosecco Festival▌So. 15.8.2026▌Zámek Valtice (Zámecký dvůr)▌Začátek 14:00&nbsp\;
LOCATION:Valtice
END:VEVENT
END:VCALENDAR