BEGIN:VCALENDAR
VERSION:2.0
CALSCALE:GREGORIAN
PRODID:-//MyApp//Calendar 1.0//EN
BEGIN:VEVENT
METHOD:PUBLISH
UID:63225@regionalniportaly.cz
DTSTAMP:20260422T135204Z
DTSTART;VALUE=DATE:20260215
DTEND;VALUE=DATE:20260216
SUMMARY:Shromáždění na podporu demokratických hodnot
DESCRIPTION:Přijďte podpořit slušnost\, respekt\, nezávislost institucí. Přijďte\, lidé dobré vůle.\nKdy? V neděli 15. února od 16:00 hod.Kde? U kina Koruna v Břeclavi.\nSledujte také facebookovou událost: https://www.facebook.com/events/2269185576904086.
LOCATION:Břeclav
END:VEVENT
END:VCALENDAR