BEGIN:VCALENDAR
VERSION:2.0
CALSCALE:GREGORIAN
PRODID:-//MyApp//Calendar 1.0//EN
BEGIN:VEVENT
METHOD:PUBLISH
UID:63376@regionalniportaly.cz
DTSTAMP:20260419T141007Z
DTSTART;VALUE=DATE:20260605
DTEND;VALUE=DATE:20260606
SUMMARY:ALAN MURIN
DESCRIPTION:&nbsp\;ALAN MURIN&nbsp\;&nbsp\;Pátek 5. 6. 2026&nbsp\;&nbsp\;Start 21:00Slovenský zpěvák a producent míří do Retro Clubu se svoji klubovou show plnou velkých hitů jako “Prepáč”\, “Do Rúk”\, “Dokola”\, “Domov” a spoustou dalších. Pojď si s námi užít jeho jedinečný koncert v Zaječí!&nbsp\;Za mixem Dj Leemac&nbsp\;Čtyři bary&nbsp\;Koktejly&nbsp\;Stylová Glo lounge&nbsp\;Profesionální party fotograf&nbsp\;Online rezervace stolů:&nbsp\;https://bit.ly/RezervaceRetroClub&nbsp\;Instagram Retro Clubu:&nbsp\;https://bit.ly/Ig_RetroClub&nbsp\;RETROKÁROU DO KLUBU TAM I ZPĚT ZDARMA!&nbsp\;&nbsp\;702 194 808 (až 7 lidí)&nbsp\;&nbsp\;722 213 832 (až 4 lidi)Rezervujte si svoz do klubu vždy o víkendu od 19:00 hodin.Jezdíme v okruhu 35 km až k brněnské Olympii!
LOCATION:Zaječí
END:VEVENT
END:VCALENDAR