BEGIN:VCALENDAR
VERSION:2.0
CALSCALE:GREGORIAN
PRODID:-//MyApp//Calendar 1.0//EN
BEGIN:VEVENT
METHOD:PUBLISH
UID:65727@regionalniportaly.cz
DTSTAMP:20260421T160030Z
DTSTART;VALUE=DATE:20260509
DTEND;VALUE=DATE:20260510
SUMMARY:Sbohem\, zůstávám
DESCRIPTION:Sbohem\, zůstávámDivadelní soubor Osvětové besedy Velká Bystřice uvádí v Divadle BoleradiceRežie: Tomáš Hradil\nKomedie autorů Isabelle Margault a Daive Cohen o tom\, jak šeredně se mýlíme v okamžicích\, kdy si myslíme\, že jsme neporazitelnými pány situace a svůj život svíráme pevně v rukou. Odpověď na otázku\, kdo je oběť a kdo šťastný vítěz\, se v tomto příběhu mění každou chvíli.95 minut s přestávkou
LOCATION:Boleradice
END:VEVENT
END:VCALENDAR