BEGIN:VCALENDAR
VERSION:2.0
CALSCALE:GREGORIAN
PRODID:-//MyApp//Calendar 1.0//EN
BEGIN:VEVENT
METHOD:PUBLISH
UID:65810@regionalniportaly.cz
DTSTAMP:20260425T104400Z
DTSTART;VALUE=DATE:20260712
DTEND;VALUE=DATE:20260713
SUMMARY:58. mezinárodní festival dechových hudeb Ratíškovice
DESCRIPTION:58. mezinárodní festival dechových hudeb Ratíškovice - festival Josefa Nováka.Festival se uskuteční za každého počasí na fotbalovém hřišti Baníku Ratíškovice. Program začíná v 11:00 hodin\, kdy se představí dechová hudba Sebraňáci\, Záhumenka\, Veselá muzika a holandská dechová hudba Západská.&nbsp\;Ve 14:00 po slavnostních fanfárách festival odstartuje DH Vracovjáci\, Muzika&nbsp\; z Dolních Heřmanic\, Drietomanka\, Žadovjáci a Stříbrňanka.&nbsp\;Vstupenky budou k dispozici i na pokladnách v areálu Baníku Ratíškovice.&nbsp\;&nbsp\;
LOCATION:Ratíškovice
END:VEVENT
END:VCALENDAR